BEGIN:VCALENDAR
PRODID:NingEventWidget-v1
VERSION:2.0
METHOD:PUBLISH
BEGIN:VTIMEZONE
TZID:Europe/Madrid
X-LIC-LOCATION:Europe/Madrid
BEGIN:DAYLIGHT
TZOFFSETFROM:+0100
TZOFFSETTO:+0200
TZNAME:CEST
DTSTART:19700329T020000
RRULE:FREQ=YEARLY;BYMONTH=3;BYDAY=-1SU
END:DAYLIGHT
BEGIN:STANDARD
TZOFFSETFROM:+0200
TZOFFSETTO:+0100
TZNAME:CET
DTSTART:19701025T030000
RRULE:FREQ=YEARLY;BYMONTH=10;BYDAY=-1SU
END:STANDARD
END:VTIMEZONE
BEGIN:VEVENT
UID:2533604:Event:5498
DTSTAMP:20260421T113531Z
SUMMARY:VIAJE A JAPON
DESCRIPTION:CONDICIONES DEL VIAJE  Precio por persona en habitaciÃ³n d
 oble Eur. 3150 Suplemento por hab. individual: Eur. 410 Descuento por 
 hab. triple: Eur. - 60  EL PRECIO INCLUYE: - Vuelo de lÃ­nea regular d
 e Japan Airlines en clase turista: Madrid -Europa-Tokyo(NRT)-Europa-Ma
 drid O Barcelona- Londres(LHR)-Tokyo(NRT)-Londres(LHR)-Barcelona â€¢ï€
  ï€ Vuelos europeos con las compaÃ±Ã­as aÃ©reas de Oneworld, â€¢ï€ ï€ 
 Europa â€“ JapÃ³n ---Por Japan Airlines (JAL) - 8 noches de estancia e
 n los hoteles previstos en rÃ©gimen de sÃ³lo alojamiento. - desayunos 
 - Traslados en autocar privado con guÃ­a de habla espaÃ±ola - Visitas 
 en autocar privado con guÃ­a turÃ­stica de habla espaÃ±ola segÃºn itin
 erario. - Billetes de tren segÃºn itinerario en clase turista. - Segur
 o de viaje con la compaÃ±Ã­a MAPFRE. - Se permite 1maleta por persona 
 con un peso total mÃ¡ximo de 20kg.  ITINERARIO  NOV06 MADRID(o BARCELO
 NA)-EUROPA-TOKYO Salida en vuelos de lÃ­nea regular de Japan Airlines(
 JL) con destino Tokyo vÃ­a un punto europeo. Noche abordo. NOV07 TOKYO
  Llegada al aeropuerto internacional de Tokyo Narita. Tres noches de e
 stancia en Tokyo. NOV08 TOKYO Visita de Tokyo (zona de Roppongi), incl
 uye: NOV09 TOKYO Visita de Tokyo (zonas de Ginza, Harajuku&Omotesando,
  y Yoyogi&Shinjuku ), NOV10 TOKYO-KYOTO Visita de Tokyo por la maÃ±ana
 , Traslado a la estaciÃ³n de Tokyo con guÃ­a. Tren bala hacÃ­a Kyoto (
 sin asistencia a bordo). Llegada a la estaciÃ³n de Kyoto, y A continua
 ciÃ³n, la visita de Kyoto, - NOV11 KYOTO Visita de Kyoto dÃ­a completo
 , incluye: NOV12 KYOTO-HIMEJI-AWAJI-OSAKA Traslado caminando a la esta
 ciÃ³n de Kyoto. Tren bala hacÃ­a Himeji. Llegada a la estaciÃ³n de Him
 eji y a continuaciÃ³n visita de Himeji, Traslado hacÃ­a Awaji y contin
 uamos a la visita de Awaji, La visita termina a la llegada al hotel de
  Osaka. Dos noches de estancia en Osaka. NOV13 OSAKA-NARA-OSAKA DÃ­a c
 ompleto excursiÃ³n a Nara y Osaka, La visita termina al llegar al hote
 l. NOV14 OSAKA-YOKOHAMA-TOKYO Traslado a la estaciÃ³n de Shin Osaka (=
 Nueva Osaka) con asistencia de habla inglesa. Tren bala hacÃ­a Shin Yo
 kohama(=Nueva Yokohama), sin asistencia a bordo. Llegada a la estaciÃ³
 n de Shin Yokohama y les recibe nuestro guÃ­a. A continuaciÃ³n, visita
  de Yokohama, La visita termina a la llegada al hotel de Tokyo. Noche 
 de estancia. NOV15 TOKYO-EUROPA-MADRID(o BARCELONA) Traslado al aeropu
 erto de Tokyo Narita con asistencia de habla inglesa. Salida en vuelos
  de lÃ­nea regular Llegada a Madrid(o Barcelona).\n\nPara mÃ¡s informa
 ciÃ³n visita http://www.colectivosarquitectura.com/events/viaje-a-japo
 n
DTSTART;TZID=Europe/Madrid:20091107T190000
DTEND;TZID=Europe/Madrid:20091115T190000
CATEGORIES:viaje, ajam, japÃ³n, aa
LOCATION:TOKIO
WEBSITE:
URL:
CONTACT:
ORGANIZER;CN=CESAR:http://www.colectivosarquitectura.com/profile/CESAR
ATTACH;FMTTYPE="image/jpeg":http://storage.ning.com/topology/rest/1.0/
 file/get/1077645334?profile=original
ATTENDEE;ROLE=REQ-PARTICIPANT;PARTSTAT=ACCEPTED;RSVP=TRUE;CN=CESAR:htt
 p://www.colectivosarquitectura.com/profile/CESAR
ATTENDEE;ROLE=REQ-PARTICIPANT;PARTSTAT=ACCEPTED;RSVP=TRUE;CN="aA asoci
 acion de Arquitectos":http://www.colectivosarquitectura.com/profile/as
 ociaciondearquitectos
ATTENDEE;ROLE=REQ-PARTICIPANT;PARTSTAT=ACCEPTED;RSVP=TRUE;CN=ArchEnerg
 y:http://www.colectivosarquitectura.com/profile/archenergy
ATTENDEE;ROLE=REQ-PARTICIPANT;PARTSTAT=ACCEPTED;RSVP=TRUE;CN="Enrique 
 Prieto":http://www.colectivosarquitectura.com/profile/EnriquePrietoCat
 alan
ATTENDEE;ROLE=REQ-PARTICIPANT;PARTSTAT=TENTATIVE;RSVP=TRUE;CN="Emilio 
 J. Perez":http://www.colectivosarquitectura.com/profile/EmilioJPerezGo
 nzalez
END:VEVENT
END:VCALENDAR
